BEGIN:VCALENDAR
VERSION:2.0
PRODID:-//Kultursalon e.V. - Die Flaneure - ECPv6.15.20//NONSGML v1.0//EN
CALSCALE:GREGORIAN
METHOD:PUBLISH
X-WR-CALNAME:Kultursalon e.V. - Die Flaneure
X-ORIGINAL-URL:https://kultursalon-dieflaneure.de
X-WR-CALDESC:Veranstaltungen für Kultursalon e.V. - Die Flaneure
REFRESH-INTERVAL;VALUE=DURATION:PT1H
X-Robots-Tag:noindex
X-PUBLISHED-TTL:PT1H
BEGIN:VTIMEZONE
TZID:Europe/Berlin
BEGIN:DAYLIGHT
TZOFFSETFROM:+0100
TZOFFSETTO:+0200
TZNAME:CEST
DTSTART:20250330T010000
END:DAYLIGHT
BEGIN:STANDARD
TZOFFSETFROM:+0200
TZOFFSETTO:+0100
TZNAME:CET
DTSTART:20251026T010000
END:STANDARD
BEGIN:DAYLIGHT
TZOFFSETFROM:+0100
TZOFFSETTO:+0200
TZNAME:CEST
DTSTART:20260329T010000
END:DAYLIGHT
BEGIN:STANDARD
TZOFFSETFROM:+0200
TZOFFSETTO:+0100
TZNAME:CET
DTSTART:20261025T010000
END:STANDARD
BEGIN:DAYLIGHT
TZOFFSETFROM:+0100
TZOFFSETTO:+0200
TZNAME:CEST
DTSTART:20270328T010000
END:DAYLIGHT
BEGIN:STANDARD
TZOFFSETFROM:+0200
TZOFFSETTO:+0100
TZNAME:CET
DTSTART:20271031T010000
END:STANDARD
END:VTIMEZONE
BEGIN:VEVENT
DTSTART;TZID=Europe/Berlin:20260425T190000
DTEND;TZID=Europe/Berlin:20260425T190000
DTSTAMP:20260420T062308
CREATED:20260108T204329Z
LAST-MODIFIED:20260108T204329Z
UID:2184-1777143600-1777143600@kultursalon-dieflaneure.de
SUMMARY:Ensemble Tex Ton
DESCRIPTION:Weiteres in Kürze
URL:https://kultursalon-dieflaneure.de/veranstaltung/ensemble-tex-ton/
LOCATION:Kultursalon – Die Flaneure e.V. (bitte bei Kümmel klingeln)\, Knesebeckstr. 89\, Berlin\, 10623\, Deutschland
CATEGORIES:Konzerte
END:VEVENT
BEGIN:VEVENT
DTSTART;TZID=Europe/Berlin:20260501T190000
DTEND;TZID=Europe/Berlin:20260501T190000
DTSTAMP:20260420T062308
CREATED:20260108T204444Z
LAST-MODIFIED:20260108T204444Z
UID:2186-1777662000-1777662000@kultursalon-dieflaneure.de
SUMMARY:...wir tanzen in den Mai mit dem Orbit Quartett und einer Maien Mischung aus Klassik\, Jazz und Pop ecetera
DESCRIPTION:
URL:https://kultursalon-dieflaneure.de/veranstaltung/wir-tanzen-in-den-mai-mit-dem-orbit-quartett-und-einer-maien-mischung-aus-klassik-jazz-und-pop-ecetera/
LOCATION:Kultursalon – Die Flaneure e.V. (bitte bei Kümmel klingeln)\, Knesebeckstr. 89\, Berlin\, 10623\, Deutschland
CATEGORIES:Weltmusik
END:VEVENT
BEGIN:VEVENT
DTSTART;TZID=Europe/Berlin:20260503T170000
DTEND;TZID=Europe/Berlin:20260503T170000
DTSTAMP:20260420T062308
CREATED:20260108T204645Z
LAST-MODIFIED:20260309T191759Z
UID:2188-1777827600-1777827600@kultursalon-dieflaneure.de
SUMMARY:Stimmen von Liebe und Natur
DESCRIPTION:Ein Liederabend mit Werken von Ursula Mamlok & Johannes Brahms\nin Kooperation mit der Mamlokstiftung
URL:https://kultursalon-dieflaneure.de/veranstaltung/zum-100-geburtstag-von-ursula-mamlok-in-kooperation-mit-der-mamlok-stiftung/
LOCATION:Kultursalon – Die Flaneure e.V. (bitte bei Kümmel klingeln)\, Knesebeckstr. 89\, Berlin\, 10623\, Deutschland
CATEGORIES:Konzerte
END:VEVENT
BEGIN:VEVENT
DTSTART;TZID=Europe/Berlin:20260509T190000
DTEND;TZID=Europe/Berlin:20260509T190000
DTSTAMP:20260420T062308
CREATED:20260108T204739Z
LAST-MODIFIED:20260108T204739Z
UID:2190-1778353200-1778353200@kultursalon-dieflaneure.de
SUMMARY:Frelon Trio
DESCRIPTION:
URL:https://kultursalon-dieflaneure.de/veranstaltung/frelon-trio/
LOCATION:Kultursalon – Die Flaneure e.V. (bitte bei Kümmel klingeln)\, Knesebeckstr. 89\, Berlin\, 10623\, Deutschland
CATEGORIES:Konzerte
END:VEVENT
BEGIN:VEVENT
DTSTART;TZID=Europe/Berlin:20260522T190000
DTEND;TZID=Europe/Berlin:20260522T190000
DTSTAMP:20260420T062308
CREATED:20260108T204834Z
LAST-MODIFIED:20260108T204834Z
UID:2192-1779476400-1779476400@kultursalon-dieflaneure.de
SUMMARY:Liederabend mit Alexej Pudinov\, Klavier und Elene Gvritishvilli\, Sopran
DESCRIPTION:
URL:https://kultursalon-dieflaneure.de/veranstaltung/liederabend-mit-alexej-pudinov-klavier-und-elene-gvritishvilli-sopran/
LOCATION:Kultursalon – Die Flaneure e.V. (bitte bei Kümmel klingeln)\, Knesebeckstr. 89\, Berlin\, 10623\, Deutschland
CATEGORIES:Konzerte
END:VEVENT
BEGIN:VEVENT
DTSTART;TZID=Europe/Berlin:20260822T110000
DTEND;TZID=Europe/Berlin:20260822T110000
DTSTAMP:20260420T062308
CREATED:20260108T205007Z
LAST-MODIFIED:20260108T205007Z
UID:2194-1787396400-1787396400@kultursalon-dieflaneure.de
SUMMARY:TIPP! Dieses Jahr endlich wieder!!! TIERGARTENFLANIEREN
DESCRIPTION:Spazieren zu kleinen kulturellen Nischen vom Rosengarten zur Picknickwiese mit Abschlußpicknick und musikalischer Überraschung!
URL:https://kultursalon-dieflaneure.de/veranstaltung/tipp-dieses-jahr-endlich-wieder-tiergartenflanieren/
LOCATION:Tiergarten / Rosengarten an der Siegelsäule
END:VEVENT
BEGIN:VEVENT
DTSTART;TZID=Europe/Berlin:20260905T190000
DTEND;TZID=Europe/Berlin:20260905T190000
DTSTAMP:20260420T062308
CREATED:20260108T205047Z
LAST-MODIFIED:20260108T205047Z
UID:2196-1788634800-1788634800@kultursalon-dieflaneure.de
SUMMARY:Lesung Briefwechsel Freud und seine Geliebte
DESCRIPTION:
URL:https://kultursalon-dieflaneure.de/veranstaltung/lesung-briefwechsel-freud-und-seine-geliebte/
LOCATION:Kultursalon – Die Flaneure e.V. (bitte bei Kümmel klingeln)\, Knesebeckstr. 89\, Berlin\, 10623\, Deutschland
CATEGORIES:Lesungen
END:VEVENT
BEGIN:VEVENT
DTSTART;TZID=Europe/Berlin:20260919T190000
DTEND;TZID=Europe/Berlin:20260919T190000
DTSTAMP:20260420T062308
CREATED:20260108T205126Z
LAST-MODIFIED:20260108T205126Z
UID:2198-1789844400-1789844400@kultursalon-dieflaneure.de
SUMMARY:Duo Geige / Klavier mit Alexej Pudinov
DESCRIPTION:
URL:https://kultursalon-dieflaneure.de/veranstaltung/duo-geige-klavier-mit-alexej-pudinov/
LOCATION:Kultursalon – Die Flaneure e.V. (bitte bei Kümmel klingeln)\, Knesebeckstr. 89\, Berlin\, 10623\, Deutschland
CATEGORIES:Konzerte
END:VEVENT
BEGIN:VEVENT
DTSTART;TZID=Europe/Berlin:20260926T190000
DTEND;TZID=Europe/Berlin:20260926T190000
DTSTAMP:20260420T062308
CREATED:20260108T205224Z
LAST-MODIFIED:20260108T205224Z
UID:2200-1790449200-1790449200@kultursalon-dieflaneure.de
SUMMARY:Fanny Hensel Programm (Gastspiel)
DESCRIPTION:Näheres in Kürze
URL:https://kultursalon-dieflaneure.de/veranstaltung/fanny-hensel-programm-gastspiel/
LOCATION:Kultursalon – Die Flaneure e.V. (bitte bei Kümmel klingeln)\, Knesebeckstr. 89\, Berlin\, 10623\, Deutschland
CATEGORIES:Konzerte
END:VEVENT
BEGIN:VEVENT
DTSTART;TZID=Europe/Berlin:20261003T190000
DTEND;TZID=Europe/Berlin:20261003T190000
DTSTAMP:20260420T062308
CREATED:20260108T205311Z
LAST-MODIFIED:20260108T205311Z
UID:2202-1791054000-1791054000@kultursalon-dieflaneure.de
SUMMARY:Klavierabend mit Julia Rinderle
DESCRIPTION:
URL:https://kultursalon-dieflaneure.de/veranstaltung/klavierabend-mit-julia-rinderle-3/
LOCATION:Kultursalon – Die Flaneure e.V. (bitte bei Kümmel klingeln)\, Knesebeckstr. 89\, Berlin\, 10623\, Deutschland
CATEGORIES:Konzerte
END:VEVENT
BEGIN:VEVENT
DTSTART;TZID=Europe/Berlin:20261031T190000
DTEND;TZID=Europe/Berlin:20261031T190000
DTSTAMP:20260420T062308
CREATED:20260108T205400Z
LAST-MODIFIED:20260108T205400Z
UID:2204-1793473200-1793473200@kultursalon-dieflaneure.de
SUMMARY:Klavierabend mit Yehuda
DESCRIPTION:Programm folgt
URL:https://kultursalon-dieflaneure.de/veranstaltung/klavierabend-mit-yehuda/
LOCATION:Kultursalon – Die Flaneure e.V. (bitte bei Kümmel klingeln)\, Knesebeckstr. 89\, Berlin\, 10623\, Deutschland
CATEGORIES:Konzerte
END:VEVENT
BEGIN:VEVENT
DTSTART;TZID=Europe/Berlin:20261107T190000
DTEND;TZID=Europe/Berlin:20261107T190000
DTSTAMP:20260420T062308
CREATED:20260108T205447Z
LAST-MODIFIED:20260108T205448Z
UID:2206-1794078000-1794078000@kultursalon-dieflaneure.de
SUMMARY:Between Notes \, Duo
DESCRIPTION:Näheres in Kürze
URL:https://kultursalon-dieflaneure.de/veranstaltung/between-notes-duo/
LOCATION:Kultursalon – Die Flaneure e.V. (bitte bei Kümmel klingeln)\, Knesebeckstr. 89\, Berlin\, 10623\, Deutschland
CATEGORIES:Konzerte
END:VEVENT
END:VCALENDAR